Workbook

Sheet Öğrenciler
A1: Öğrenci adı | B1: Veli adı | C1: Telefon | D1: Ders konusu | E1: Ders ücreti (TL) | F1: Paket ders sayısı | G1: Paket başlangıç | H1: Not
A2: Ada Yılmaz | B2: Selin Yılmaz | C2: 0532 000 00 01 | D2: Matematik | E2: 900 | F2: 8 | G2: 46266 | H2: Salı ve Perşembe 17:00
A3: Kerem Demir | B3: Murat Demir | C3: 0533 000 00 02 | D3: İngilizce | E3: 800 | F3: 4 | G3: 46267 | H3: Çarşamba 18:00, 45 dk
A4: Elif Kaya | B4: Ayşe Kaya | C4: 0534 000 00 03 | D4: Piyano | E4: 1000 | F4: 8 | G4: 46270 | H4: Cuma 16:00

Sheet Dersler
A1: Tarih | B1: Saat | C1: Öğrenci adı | D1: Süre (dk) | E1: Durum | F1: Konu / not
A2: 46266 | B2: 17:00 | C2: Ada Yılmaz | D2: 60 | E2: Yapıldı | F2: Türev tekrarı
A3: 46267 | B3: 18:00 | C3: Kerem Demir | D3: 45 | E3: İptal – hak düşmez | F3: Veli bir gün önce aradı
A4: 46268 | B4: 17:00 | C4: Ada Yılmaz | D4: 60 | E4: Yapıldı | F4: İntegral
A5: 46269 | B5: 18:00 | C5: Kerem Demir | D5: 45 | E5: Yapıldı | F5: Present perfect
A6: 46270 | B6: 16:00 | C6: Elif Kaya | D6: 60 | E6: Gelmedi | F6: Haber vermedi
A7: 46273 | B7: 17:00 | C7: Ada Yılmaz | D7: 60 | E7: İptal – hak düşer | F7: Ders saatinde iptal

Sheet Özet
A1: Öğrenci adı | B1: Paket ders sayısı | C1: Yapılan ders | D1: Kalan ders | E1: Ödenen (TL) | F1: Kalan borç (TL)
A2: =IF('Öğrenciler'!A2="","",'Öğrenciler'!A2) | B2: =IF($A2="","",'Öğrenciler'!F2) | C2: =IF($A2="","",COUNTIFS('Dersler'!$C$2:$C$1000,$A2,'Dersler'!$E$2:$E$1000,"Yapıldı")+COUNTIFS('Dersler'!$C$2:$C$1000,$A2,'Dersler'!$E$2:$E$1000,"İptal – hak düşer")+COUNTIFS('Dersler'!$C$2:$C$1000,$A2,'Dersler'!$E$2:$E$1000,"Gelmedi")) | D2: =IF($A2="","",B2-C2) | E2: 7200 | F2: =IF($A2="","",B2*'Öğrenciler'!E2-E2)
A3: =IF('Öğrenciler'!A3="","",'Öğrenciler'!A3) | B3: =IF($A3="","",'Öğrenciler'!F3) | C3: =IF($A3="","",COUNTIFS('Dersler'!$C$2:$C$1000,$A3,'Dersler'!$E$2:$E$1000,"Yapıldı")+COUNTIFS('Dersler'!$C$2:$C$1000,$A3,'Dersler'!$E$2:$E$1000,"İptal – hak düşer")+COUNTIFS('Dersler'!$C$2:$C$1000,$A3,'Dersler'!$E$2:$E$1000,"Gelmedi")) | D3: =IF($A3="","",B3-C3) | E3: 1600 | F3: =IF($A3="","",B3*'Öğrenciler'!E3-E3)
A4: =IF('Öğrenciler'!A4="","",'Öğrenciler'!A4) | B4: =IF($A4="","",'Öğrenciler'!F4) | C4: =IF($A4="","",COUNTIFS('Dersler'!$C$2:$C$1000,$A4,'Dersler'!$E$2:$E$1000,"Yapıldı")+COUNTIFS('Dersler'!$C$2:$C$1000,$A4,'Dersler'!$E$2:$E$1000,"İptal – hak düşer")+COUNTIFS('Dersler'!$C$2:$C$1000,$A4,'Dersler'!$E$2:$E$1000,"Gelmedi")) | D4: =IF($A4="","",B4-C4) | E4: 0 | F4: =IF($A4="","",B4*'Öğrenciler'!E4-E4)
A5: =IF('Öğrenciler'!A5="","",'Öğrenciler'!A5) | B5: =IF($A5="","",'Öğrenciler'!F5) | C5: =IF($A5="","",COUNTIFS('Dersler'!$C$2:$C$1000,$A5,'Dersler'!$E$2:$E$1000,"Yapıldı")+COUNTIFS('Dersler'!$C$2:$C$1000,$A5,'Dersler'!$E$2:$E$1000,"İptal – hak düşer")+COUNTIFS('Dersler'!$C$2:$C$1000,$A5,'Dersler'!$E$2:$E$1000,"Gelmedi")) | D5: =IF($A5="","",B5-C5) | F5: =IF($A5="","",B5*'Öğrenciler'!E5-E5)
A6: =IF('Öğrenciler'!A6="","",'Öğrenciler'!A6) | B6: =IF($A6="","",'Öğrenciler'!F6) | C6: =IF($A6="","",COUNTIFS('Dersler'!$C$2:$C$1000,$A6,'Dersler'!$E$2:$E$1000,"Yapıldı")+COUNTIFS('Dersler'!$C$2:$C$1000,$A6,'Dersler'!$E$2:$E$1000,"İptal – hak düşer")+COUNTIFS('Dersler'!$C$2:$C$1000,$A6,'Dersler'!$E$2:$E$1000,"Gelmedi")) | D6: =IF($A6="","",B6-C6) | F6: =IF($A6="","",B6*'Öğrenciler'!E6-E6)
A7: =IF('Öğrenciler'!A7="","",'Öğrenciler'!A7) | B7: =IF($A7="","",'Öğrenciler'!F7) | C7: =IF($A7="","",COUNTIFS('Dersler'!$C$2:$C$1000,$A7,'Dersler'!$E$2:$E$1000,"Yapıldı")+COUNTIFS('Dersler'!$C$2:$C$1000,$A7,'Dersler'!$E$2:$E$1000,"İptal – hak düşer")+COUNTIFS('Dersler'!$C$2:$C$1000,$A7,'Dersler'!$E$2:$E$1000,"Gelmedi")) | D7: =IF($A7="","",B7-C7) | F7: =IF($A7="","",B7*'Öğrenciler'!E7-E7)
A8: =IF('Öğrenciler'!A8="","",'Öğrenciler'!A8) | B8: =IF($A8="","",'Öğrenciler'!F8) | C8: =IF($A8="","",COUNTIFS('Dersler'!$C$2:$C$1000,$A8,'Dersler'!$E$2:$E$1000,"Yapıldı")+COUNTIFS('Dersler'!$C$2:$C$1000,$A8,'Dersler'!$E$2:$E$1000,"İptal – hak düşer")+COUNTIFS('Dersler'!$C$2:$C$1000,$A8,'Dersler'!$E$2:$E$1000,"Gelmedi")) | D8: =IF($A8="","",B8-C8) | F8: =IF($A8="","",B8*'Öğrenciler'!E8-E8)
A9: =IF('Öğrenciler'!A9="","",'Öğrenciler'!A9) | B9: =IF($A9="","",'Öğrenciler'!F9) | C9: =IF($A9="","",COUNTIFS('Dersler'!$C$2:$C$1000,$A9,'Dersler'!$E$2:$E$1000,"Yapıldı")+COUNTIFS('Dersler'!$C$2:$C$1000,$A9,'Dersler'!$E$2:$E$1000,"İptal – hak düşer")+COUNTIFS('Dersler'!$C$2:$C$1000,$A9,'Dersler'!$E$2:$E$1000,"Gelmedi")) | D9: =IF($A9="","",B9-C9) | F9: =IF($A9="","",B9*'Öğrenciler'!E9-E9)
A10: =IF('Öğrenciler'!A10="","",'Öğrenciler'!A10) | B10: =IF($A10="","",'Öğrenciler'!F10) | C10: =IF($A10="","",COUNTIFS('Dersler'!$C$2:$C$1000,$A10,'Dersler'!$E$2:$E$1000,"Yapıldı")+COUNTIFS('Dersler'!$C$2:$C$1000,$A10,'Dersler'!$E$2:$E$1000,"İptal – hak düşer")+COUNTIFS('Dersler'!$C$2:$C$1000,$A10,'Dersler'!$E$2:$E$1000,"Gelmedi")) | D10: =IF($A10="","",B10-C10) | F10: =IF($A10="","",B10*'Öğrenciler'!E10-E10)
A11: =IF('Öğrenciler'!A11="","",'Öğrenciler'!A11) | B11: =IF($A11="","",'Öğrenciler'!F11) | C11: =IF($A11="","",COUNTIFS('Dersler'!$C$2:$C$1000,$A11,'Dersler'!$E$2:$E$1000,"Yapıldı")+COUNTIFS('Dersler'!$C$2:$C$1000,$A11,'Dersler'!$E$2:$E$1000,"İptal – hak düşer")+COUNTIFS('Dersler'!$C$2:$C$1000,$A11,'Dersler'!$E$2:$E$1000,"Gelmedi")) | D11: =IF($A11="","",B11-C11) | F11: =IF($A11="","",B11*'Öğrenciler'!E11-E11)
A12: =IF('Öğrenciler'!A12="","",'Öğrenciler'!A12) | B12: =IF($A12="","",'Öğrenciler'!F12) | C12: =IF($A12="","",COUNTIFS('Dersler'!$C$2:$C$1000,$A12,'Dersler'!$E$2:$E$1000,"Yapıldı")+COUNTIFS('Dersler'!$C$2:$C$1000,$A12,'Dersler'!$E$2:$E$1000,"İptal – hak düşer")+COUNTIFS('Dersler'!$C$2:$C$1000,$A12,'Dersler'!$E$2:$E$1000,"Gelmedi")) | D12: =IF($A12="","",B12-C12) | F12: =IF($A12="","",B12*'Öğrenciler'!E12-E12)
A13: =IF('Öğrenciler'!A13="","",'Öğrenciler'!A13) | B13: =IF($A13="","",'Öğrenciler'!F13) | C13: =IF($A13="","",COUNTIFS('Dersler'!$C$2:$C$1000,$A13,'Dersler'!$E$2:$E$1000,"Yapıldı")+COUNTIFS('Dersler'!$C$2:$C$1000,$A13,'Dersler'!$E$2:$E$1000,"İptal – hak düşer")+COUNTIFS('Dersler'!$C$2:$C$1000,$A13,'Dersler'!$E$2:$E$1000,"Gelmedi")) | D13: =IF($A13="","",B13-C13) | F13: =IF($A13="","",B13*'Öğrenciler'!E13-E13)
A14: =IF('Öğrenciler'!A14="","",'Öğrenciler'!A14) | B14: =IF($A14="","",'Öğrenciler'!F14) | C14: =IF($A14="","",COUNTIFS('Dersler'!$C$2:$C$1000,$A14,'Dersler'!$E$2:$E$1000,"Yapıldı")+COUNTIFS('Dersler'!$C$2:$C$1000,$A14,'Dersler'!$E$2:$E$1000,"İptal – hak düşer")+COUNTIFS('Dersler'!$C$2:$C$1000,$A14,'Dersler'!$E$2:$E$1000,"Gelmedi")) | D14: =IF($A14="","",B14-C14) | F14: =IF($A14="","",B14*'Öğrenciler'!E14-E14)
A15: =IF('Öğrenciler'!A15="","",'Öğrenciler'!A15) | B15: =IF($A15="","",'Öğrenciler'!F15) | C15: =IF($A15="","",COUNTIFS('Dersler'!$C$2:$C$1000,$A15,'Dersler'!$E$2:$E$1000,"Yapıldı")+COUNTIFS('Dersler'!$C$2:$C$1000,$A15,'Dersler'!$E$2:$E$1000,"İptal – hak düşer")+COUNTIFS('Dersler'!$C$2:$C$1000,$A15,'Dersler'!$E$2:$E$1000,"Gelmedi")) | D15: =IF($A15="","",B15-C15) | F15: =IF($A15="","",B15*'Öğrenciler'!E15-E15)
A16: =IF('Öğrenciler'!A16="","",'Öğrenciler'!A16) | B16: =IF($A16="","",'Öğrenciler'!F16) | C16: =IF($A16="","",COUNTIFS('Dersler'!$C$2:$C$1000,$A16,'Dersler'!$E$2:$E$1000,"Yapıldı")+COUNTIFS('Dersler'!$C$2:$C$1000,$A16,'Dersler'!$E$2:$E$1000,"İptal – hak düşer")+COUNTIFS('Dersler'!$C$2:$C$1000,$A16,'Dersler'!$E$2:$E$1000,"Gelmedi")) | D16: =IF($A16="","",B16-C16) | F16: =IF($A16="","",B16*'Öğrenciler'!E16-E16)
... A31: =IF('Öğrenciler'!A31="","",'Öğrenciler'!A31) | B31: =IF($A31="","",'Öğrenciler'!F31) | C31: =IF($A31="","",COUNTIFS('Dersler'!$C$2:$C$1000,$A31,'Dersler'!$E$2:$E$1000,"Yapıldı")+COUNTIFS('Dersler'!$C$2:$C$1000,$A31,'Dersler'!$E$2:$E$1000,"İptal – hak düşer")+COUNTIFS('Dersler'!$C$2:$C$1000,$A31,'Dersler'!$E$2:$E$1000,"Gelmedi")) | D31: =IF($A31="","",B31-C31) | F31: =IF($A31="","",B31*'Öğrenciler'!E31-E31)
